BEGIN:VCALENDAR
VERSION:2.0
PRODID:-//Restauracja TOSCANA Orzysz - ECPv5.16.2.1//NONSGML v1.0//EN
CALSCALE:GREGORIAN
METHOD:PUBLISH
X-ORIGINAL-URL:https://toscana-orzysz.pl
X-WR-CALDESC:Events for Restauracja TOSCANA Orzysz
REFRESH-INTERVAL;VALUE=DURATION:PT1H
X-Robots-Tag:noindex
X-PUBLISHED-TTL:PT1H
BEGIN:VTIMEZONE
TZID:Europe/Warsaw
BEGIN:DAYLIGHT
TZOFFSETFROM:+0100
TZOFFSETTO:+0200
TZNAME:CEST
DTSTART:20250330T010000
END:DAYLIGHT
BEGIN:STANDARD
TZOFFSETFROM:+0200
TZOFFSETTO:+0100
TZNAME:CET
DTSTART:20251026T010000
END:STANDARD
END:VTIMEZONE
BEGIN:VEVENT
DTSTART;VALUE=DATE:20250214
DTEND;VALUE=DATE:20250215
DTSTAMP:20260420T131153
CREATED:20250113T104909Z
LAST-MODIFIED:20250113T104909Z
UID:2173-1739491200-1739577599@toscana-orzysz.pl
SUMMARY:Walentynki 2025
DESCRIPTION:ZAPRASZAMY NA WALENTYNKOWY BAL ROKU! \nKochasz dobrą zabawę? Romantyczne chwile? Szalone tańce do białego rana?\nTo wydarzenie jest DLA CIEBIE!\nJuż 14 lutego przygotowaliśmy wieczór pełen atrakcji\, emocji i niezapomnianych wrażeń! \n🎧 DJ WODZIREJ KRZYSZTOF DANOWSKI gwarantuje:\n💃 Największe hity na parkiecie – od romantycznych kawałków po taneczne petardy!\n🍷 Rewelacyjne walentynkowe menu\, które rozpieszczą kubki smakowe:\n➡ 3 gorące dania\n➡ Przekąski\n➡ Desery\n➡ Zimne napoje\n💰 Cena za osobę: TYLKO 195 zł! \nZabierz swoją drugą połówkę lub ekipę przyjaciół i daj się porwać muzycznej przygodzie w jednym z najpiękniejszych miejsc na Mazurach! \nRezerwuj miejsca TERAZ\, bo liczba miejsc jest ograniczona!\n📞 Rezerwacje pod nr: 603 521 555 \nNie czekaj – walentynkowe szaleństwo czeka na Ciebie!\nDo zobaczenia na parkiecie!
URL:https://toscana-orzysz.pl/wydarzenie/walentynki-2025/
ATTACH;FMTTYPE=image/jpeg:https://toscana-orzysz.pl/wp-content/uploads/2025/01/473018604_592089196920233_4995600550564919100_n.jpg
END:VEVENT
END:VCALENDAR